BEGIN:VCALENDAR
VERSION:2.0
PRODID:-//Städt. Realschule Hohenstein - ECPv6.15.17//NONSGML v1.0//EN
CALSCALE:GREGORIAN
METHOD:PUBLISH
X-WR-CALNAME:Städt. Realschule Hohenstein
X-ORIGINAL-URL:https://rshohenstein.de
X-WR-CALDESC:Veranstaltungen für Städt. Realschule Hohenstein
REFRESH-INTERVAL;VALUE=DURATION:PT1H
X-Robots-Tag:noindex
X-PUBLISHED-TTL:PT1H
BEGIN:VTIMEZONE
TZID:Europe/Berlin
BEGIN:DAYLIGHT
TZOFFSETFROM:+0100
TZOFFSETTO:+0200
TZNAME:CEST
DTSTART:20240331T010000
END:DAYLIGHT
BEGIN:STANDARD
TZOFFSETFROM:+0200
TZOFFSETTO:+0100
TZNAME:CET
DTSTART:20241027T010000
END:STANDARD
BEGIN:DAYLIGHT
TZOFFSETFROM:+0100
TZOFFSETTO:+0200
TZNAME:CEST
DTSTART:20250330T010000
END:DAYLIGHT
BEGIN:STANDARD
TZOFFSETFROM:+0200
TZOFFSETTO:+0100
TZNAME:CET
DTSTART:20251026T010000
END:STANDARD
BEGIN:DAYLIGHT
TZOFFSETFROM:+0100
TZOFFSETTO:+0200
TZNAME:CEST
DTSTART:20260329T010000
END:DAYLIGHT
BEGIN:STANDARD
TZOFFSETFROM:+0200
TZOFFSETTO:+0100
TZNAME:CET
DTSTART:20261025T010000
END:STANDARD
BEGIN:DAYLIGHT
TZOFFSETFROM:+0100
TZOFFSETTO:+0200
TZNAME:CEST
DTSTART:20270328T010000
END:DAYLIGHT
BEGIN:STANDARD
TZOFFSETFROM:+0200
TZOFFSETTO:+0100
TZNAME:CET
DTSTART:20271031T010000
END:STANDARD
END:VTIMEZONE
BEGIN:VEVENT
DTSTART;VALUE=DATE:20260226
DTEND;VALUE=DATE:20260228
DTSTAMP:20260422T122431
CREATED:20251002T114413Z
LAST-MODIFIED:20251002T114413Z
UID:4746-1772064000-1772236799@rshohenstein.de
SUMMARY:mündliche Prüfung in Englisch Klasse 10
DESCRIPTION:
URL:https://rshohenstein.de/event/muendliche-pruefung-in-englisch-klasse-10/
END:VEVENT
BEGIN:VEVENT
DTSTART;VALUE=DATE:20260217
DTEND;VALUE=DATE:20260218
DTSTAMP:20260422T122431
CREATED:20251002T114005Z
LAST-MODIFIED:20251002T114005Z
UID:4742-1771286400-1771372799@rshohenstein.de
SUMMARY:beweglicher Feiertag
DESCRIPTION:
URL:https://rshohenstein.de/event/beweglicher-feiertag-6/
END:VEVENT
BEGIN:VEVENT
DTSTART;VALUE=DATE:20260216
DTEND;VALUE=DATE:20260217
DTSTAMP:20260422T122431
CREATED:20251002T113944Z
LAST-MODIFIED:20251002T113944Z
UID:4740-1771200000-1771286399@rshohenstein.de
SUMMARY:beweglicher Feiertag
DESCRIPTION:
URL:https://rshohenstein.de/event/beweglicher-feiertag-5/
END:VEVENT
BEGIN:VEVENT
DTSTART;VALUE=DATE:20260210
DTEND;VALUE=DATE:20260214
DTSTAMP:20260422T122431
CREATED:20241128T085117Z
LAST-MODIFIED:20251205T062530Z
UID:3826-1770681600-1771027199@rshohenstein.de
SUMMARY:Studienfahrt nach London Jahrgang 8
DESCRIPTION:
URL:https://rshohenstein.de/event/studienfahrt-nach-london/
END:VEVENT
BEGIN:VEVENT
DTSTART;VALUE=DATE:20260206
DTEND;VALUE=DATE:20260207
DTSTAMP:20260422T122431
CREATED:20251002T113527Z
LAST-MODIFIED:20251002T113527Z
UID:4737-1770336000-1770422399@rshohenstein.de
SUMMARY:Zeugnisse 1. Halbjahr 2025/ 2026
DESCRIPTION:
URL:https://rshohenstein.de/event/zeugnisse-1-halbjahr-2025-2026/
END:VEVENT
BEGIN:VEVENT
DTSTART;VALUE=DATE:20251222
DTEND;VALUE=DATE:20260107
DTSTAMP:20260422T122431
CREATED:20251002T113251Z
LAST-MODIFIED:20251002T113251Z
UID:4735-1766361600-1767743999@rshohenstein.de
SUMMARY:Weihnachtsferien 2025
DESCRIPTION:
URL:https://rshohenstein.de/event/weihnachtsferien-2025/
END:VEVENT
BEGIN:VEVENT
DTSTART;TZID=Europe/Berlin:20251219T000000
DTEND;TZID=Europe/Berlin:20251219T000000
DTSTAMP:20260422T122431
CREATED:20251128T065639Z
LAST-MODIFIED:20251128T065639Z
UID:4854-1766102400-1766102400@rshohenstein.de
SUMMARY:beweglicher Feiertag
DESCRIPTION:
URL:https://rshohenstein.de/event/beweglicher-feiertag-7/
END:VEVENT
BEGIN:VEVENT
DTSTART;VALUE=DATE:20251206
DTEND;VALUE=DATE:20251207
DTSTAMP:20260422T122431
CREATED:20241121T080149Z
LAST-MODIFIED:20251008T120818Z
UID:3701-1764979200-1765065599@rshohenstein.de
SUMMARY:Tag der offenen Tür 2025/ 2026 + Winterfest
DESCRIPTION:
URL:https://rshohenstein.de/event/tag-der-offenen-tuer-2024-2025/
LOCATION:Städtische Realschule Hohenstein\, Hohenstein 123\, Wuppertal\, NRW\, 42283\, Germany
ORGANIZER;CN="St%C3%A4dtische Realschule Hohenstein":MAILTO:rs.hohenstein@stadt.wuppertal.de
END:VEVENT
BEGIN:VEVENT
DTSTART;TZID=Europe/Berlin:20251202T100000
DTEND;TZID=Europe/Berlin:20251202T180000
DTSTAMP:20260422T122431
CREATED:20251002T113003Z
LAST-MODIFIED:20251002T113003Z
UID:4733-1764669600-1764698400@rshohenstein.de
SUMMARY:1. Elternsprechtag
DESCRIPTION:Terminbuchung über Untis
URL:https://rshohenstein.de/event/1-elternsprechtag/
END:VEVENT
BEGIN:VEVENT
DTSTART;TZID=Europe/Berlin:20251127T100000
DTEND;TZID=Europe/Berlin:20251127T133000
DTSTAMP:20260422T122431
CREATED:20251002T105252Z
LAST-MODIFIED:20251002T112900Z
UID:4720-1764237600-1764250200@rshohenstein.de
SUMMARY:1. Schülersprechtag
DESCRIPTION:Terminbuchung über Untis
URL:https://rshohenstein.de/event/1-schuelersprechtag/
ORGANIZER;CN="St%C3%A4dtische Realschule Hohenstein":MAILTO:rs.hohenstein@stadt.wuppertal.de
END:VEVENT
BEGIN:VEVENT
DTSTART;TZID=Europe/Berlin:20251125T180000
DTEND;TZID=Europe/Berlin:20251125T200000
DTSTAMP:20260422T122431
CREATED:20251119T102054Z
LAST-MODIFIED:20251120T070717Z
UID:4838-1764093600-1764100800@rshohenstein.de
SUMMARY:Infoabend für Eltern von Grundschulkindern
DESCRIPTION:Der Infoabend findet in der Mensa unserer Schule statt.
URL:https://rshohenstein.de/event/infoabend-fuer-eltern-von-grundschulkindern/
LOCATION:Städtische Realschule Hohenstein\, Hohenstein 123\, Wuppertal\, NRW\, 42283\, Germany
ORGANIZER;CN="St%C3%A4dtische Realschule Hohenstein":MAILTO:rs.hohenstein@stadt.wuppertal.de
END:VEVENT
BEGIN:VEVENT
DTSTART;TZID=Europe/Berlin:20251118T123000
DTEND;TZID=Europe/Berlin:20251118T131500
DTSTAMP:20260422T122431
CREATED:20251002T110923Z
LAST-MODIFIED:20251002T112118Z
UID:4726-1763469000-1763471700@rshohenstein.de
SUMMARY:Lehrersprechstunde für Eltern und Schüler*innen
DESCRIPTION:Bitte vereinbaren Sie vorher einen Termin per Mail. \nAn diesem Tag haben Sie die Möglichkeit\, mit einer beliebigen Lehrkraft zu sprechen. Gesprächsthemen können sein: \n\nLeistungen des Kindes\nVerhalten des Kindes\nFehlzeiten des Kindes\nFragen zum schulischen Werdegang nach der Realschule\nProbleme in der Klassengemeinschaft\n…\n\nHier finden Sie alle E-Mal-Adressen unseres Kollegiums:\nE-Mail-Adressen des Kollegiums der RSH
URL:https://rshohenstein.de/event/sprechzeiten-fuer-eltern-und-schuelerinnen/
LOCATION:Städtische Realschule Hohenstein\, Hohenstein 123\, Wuppertal\, NRW\, 42283\, Germany
ORGANIZER;CN="St%C3%A4dtische Realschule Hohenstein":MAILTO:rs.hohenstein@stadt.wuppertal.de
END:VEVENT
BEGIN:VEVENT
DTSTART;TZID=Europe/Berlin:20251104T123000
DTEND;TZID=Europe/Berlin:20251104T131500
DTSTAMP:20260422T122431
CREATED:20251002T112239Z
LAST-MODIFIED:20251002T112239Z
UID:4731-1762259400-1762262100@rshohenstein.de
SUMMARY:Lehrersprechstunde für Eltern und Schüler*innen
DESCRIPTION:Bitte vereinbaren Sie vorher einen Termin per Mail. \nAn diesem Tag haben Sie die Möglichkeit\, mit einer beliebigen Lehrkraft zu sprechen. Gesprächsthemen können sein: \n\nLeistungen des Kindes\nVerhalten des Kindes\nFehlzeiten des Kindes\nFragen zum schulischen Werdegang nach der Realschule\nProbleme in der Klassengemeinschaft\n…\n\nHier finden Sie alle E-Mal-Adressen unseres Kollegiums:\nE-Mail-Adressen des Kollegiums der RSH
URL:https://rshohenstein.de/event/lehrersprechstunde-fuer-eltern-und-schuelerinnen/
LOCATION:Städtische Realschule Hohenstein\, Hohenstein 123\, Wuppertal\, NRW\, 42283\, Germany
ORGANIZER;CN="St%C3%A4dtische Realschule Hohenstein":MAILTO:rs.hohenstein@stadt.wuppertal.de
END:VEVENT
BEGIN:VEVENT
DTSTART;VALUE=DATE:20251013
DTEND;VALUE=DATE:20251025
DTSTAMP:20260422T122431
CREATED:20251002T105625Z
LAST-MODIFIED:20251002T105625Z
UID:4722-1760313600-1761350399@rshohenstein.de
SUMMARY:Herbstferien 2025
DESCRIPTION:
URL:https://rshohenstein.de/event/herbstferien-2025/
END:VEVENT
BEGIN:VEVENT
DTSTART;VALUE=DATE:20250714
DTEND;VALUE=DATE:20250827
DTSTAMP:20260422T122431
CREATED:20241204T080359Z
LAST-MODIFIED:20241207T132833Z
UID:3894-1752451200-1756252799@rshohenstein.de
SUMMARY:Sommerferien 2025
DESCRIPTION:
URL:https://rshohenstein.de/event/sommerferien-2025/
END:VEVENT
BEGIN:VEVENT
DTSTART;VALUE=DATE:20250711
DTEND;VALUE=DATE:20250712
DTSTAMP:20260422T122431
CREATED:20241128T084956Z
LAST-MODIFIED:20250427T090520Z
UID:3824-1752192000-1752278399@rshohenstein.de
SUMMARY:Zeugnisse 2. Halbjahr 2024/ 2025
DESCRIPTION:
URL:https://rshohenstein.de/event/zeugnisse-1-halbjahr-2024-2025/
END:VEVENT
BEGIN:VEVENT
DTSTART;TZID=Europe/Berlin:20250710T083000
DTEND;TZID=Europe/Berlin:20250710T130000
DTSTAMP:20260422T122431
CREATED:20250427T094041Z
LAST-MODIFIED:20250428T051151Z
UID:4461-1752136200-1752152400@rshohenstein.de
SUMMARY:Sportfest
DESCRIPTION:
URL:https://rshohenstein.de/event/sportfest/
LOCATION:Sportplatz „Gelber Sprung“\, Winchenbachstraße 41\, Wuppertal\, NRW\, 42281\, Germany
ORGANIZER;CN="St%C3%A4dtische Realschule Hohenstein":MAILTO:rs.hohenstein@stadt.wuppertal.de
END:VEVENT
BEGIN:VEVENT
DTSTART;VALUE=DATE:20250707
DTEND;VALUE=DATE:20250710
DTSTAMP:20260422T122431
CREATED:20250427T093907Z
LAST-MODIFIED:20250428T051207Z
UID:4456-1751846400-1752105599@rshohenstein.de
SUMMARY:Projektwoche "Gesundheit"
DESCRIPTION:
URL:https://rshohenstein.de/event/projektwoche-gesundheit/
LOCATION:Städtische Realschule Hohenstein\, Hohenstein 123\, Wuppertal\, NRW\, 42283\, Germany
ORGANIZER;CN="St%C3%A4dtische Realschule Hohenstein":MAILTO:rs.hohenstein@stadt.wuppertal.de
END:VEVENT
BEGIN:VEVENT
DTSTART;TZID=Europe/Berlin:20250620T000000
DTEND;TZID=Europe/Berlin:20250620T000000
DTSTAMP:20260422T122431
CREATED:20241207T132834Z
LAST-MODIFIED:20241207T132834Z
UID:3887-1750377600-1750377600@rshohenstein.de
SUMMARY:beweglicher Feiertag
DESCRIPTION:
URL:https://rshohenstein.de/event/beweglicher-feiertag-3/
END:VEVENT
BEGIN:VEVENT
DTSTART;VALUE=DATE:20250616
DTEND;VALUE=DATE:20250617
DTSTAMP:20260422T122431
CREATED:20241207T132834Z
LAST-MODIFIED:20241207T132834Z
UID:3885-1750032000-1750118399@rshohenstein.de
SUMMARY:mündliche Prüfung in WP-Französisch Klasse 10
DESCRIPTION:
URL:https://rshohenstein.de/event/muendliche-pruefung-in-wp-franzoesisch-klasse-10/
END:VEVENT
BEGIN:VEVENT
DTSTART;VALUE=DATE:20250610
DTEND;VALUE=DATE:20250611
DTSTAMP:20260422T122431
CREATED:20250427T090329Z
LAST-MODIFIED:20250427T090329Z
UID:4454-1749513600-1749599999@rshohenstein.de
SUMMARY:Pfingstferien
DESCRIPTION:Heute findet kein Unterricht statt.
URL:https://rshohenstein.de/event/pfingstferien/
END:VEVENT
BEGIN:VEVENT
DTSTART;VALUE=DATE:20250605
DTEND;VALUE=DATE:20250606
DTSTAMP:20260422T122431
CREATED:20241207T132834Z
LAST-MODIFIED:20250427T093229Z
UID:3871-1749081600-1749167999@rshohenstein.de
SUMMARY:Zentrale Prüfung der Klasse 10 Mathematik
DESCRIPTION:Weitere Informationen zu den zentralen Prüfungen finden Sie hier.
URL:https://rshohenstein.de/event/zentrale-pruefung-der-klasse-10-mathematik/
LOCATION:Städtische Realschule Hohenstein\, Hohenstein 123\, Wuppertal\, NRW\, 42283\, Germany
ORGANIZER;CN="St%C3%A4dtische Realschule Hohenstein":MAILTO:rs.hohenstein@stadt.wuppertal.de
END:VEVENT
BEGIN:VEVENT
DTSTART;VALUE=DATE:20250603
DTEND;VALUE=DATE:20250604
DTSTAMP:20260422T122431
CREATED:20241207T132834Z
LAST-MODIFIED:20250427T093209Z
UID:3873-1748908800-1748995199@rshohenstein.de
SUMMARY:Zentrale Prüfung der Klasse 10 Englisch
DESCRIPTION:Weitere Informationen zu den zentralen Prüfungen finden Sie hier.
URL:https://rshohenstein.de/event/zentrale-pruefung-der-klasse-10-englisch/
LOCATION:Städtische Realschule Hohenstein\, Hohenstein 123\, Wuppertal\, NRW\, 42283\, Germany
ORGANIZER;CN="St%C3%A4dtische Realschule Hohenstein":MAILTO:rs.hohenstein@stadt.wuppertal.de
END:VEVENT
BEGIN:VEVENT
DTSTART;VALUE=DATE:20250530
DTEND;VALUE=DATE:20250531
DTSTAMP:20260422T122431
CREATED:20241207T132834Z
LAST-MODIFIED:20241207T132834Z
UID:3883-1748563200-1748649599@rshohenstein.de
SUMMARY:Studienfahrt nach Liége - Belgien Klassen 7 & 8
DESCRIPTION:
URL:https://rshohenstein.de/event/studienfahrt-nach-liege-belgien-klassen-7-8/
END:VEVENT
BEGIN:VEVENT
DTSTART;VALUE=DATE:20250527
DTEND;VALUE=DATE:20250528
DTSTAMP:20260422T122431
CREATED:20241207T132834Z
LAST-MODIFIED:20250427T092927Z
UID:3869-1748304000-1748390399@rshohenstein.de
SUMMARY:Zentrale Prüfung der Klasse 10 Deutsch
DESCRIPTION:Weitere Informationen zu den zentralen Prüfungen finden Sie hier.
URL:https://rshohenstein.de/event/zentrale-pruefung-der-klasse-10-deutsch/
LOCATION:Städtische Realschule Hohenstein\, Hohenstein 123\, Wuppertal\, NRW\, 42283\, Germany
ORGANIZER;CN="St%C3%A4dtische Realschule Hohenstein":MAILTO:rs.hohenstein@stadt.wuppertal.de
END:VEVENT
BEGIN:VEVENT
DTSTART;TZID=Europe/Berlin:20250519T000000
DTEND;TZID=Europe/Berlin:20250530T130000
DTSTAMP:20260422T122431
CREATED:20241207T132834Z
LAST-MODIFIED:20250502T091940Z
UID:3860-1747612800-1748610000@rshohenstein.de
SUMMARY:Wahlen der Wahlpflichtfächer in Klasse 6
DESCRIPTION:Schülerinnen und Schüler wählen über IServ-Kurswahlen ihr Wahlpflichtfach. Informationen zu unseren Angeboten finden Sie hier.
URL:https://rshohenstein.de/event/wahlen-der-wahlpflichtfaecher-in-klasse-6/
END:VEVENT
BEGIN:VEVENT
DTSTART;TZID=Europe/Berlin:20250514T190000
DTEND;TZID=Europe/Berlin:20250514T200000
DTSTAMP:20260422T122431
CREATED:20241207T132834Z
LAST-MODIFIED:20250502T091803Z
UID:3862-1747249200-1747252800@rshohenstein.de
SUMMARY:Informationsabend für die Klasse 6 zu Wahlpflichtfächern
DESCRIPTION:
URL:https://rshohenstein.de/event/informationsabend-fuer-die-klasse-6-zu-wahlpflichtfaechern/
END:VEVENT
BEGIN:VEVENT
DTSTART;TZID=Europe/Berlin:20250506T100000
DTEND;TZID=Europe/Berlin:20250506T180000
DTSTAMP:20260422T122431
CREATED:20241207T132834Z
LAST-MODIFIED:20241207T132834Z
UID:3864-1746525600-1746554400@rshohenstein.de
SUMMARY:2. Elternsprechtag
DESCRIPTION:Terminbuchung über Untis
URL:https://rshohenstein.de/event/2-elternsprechtag/
END:VEVENT
BEGIN:VEVENT
DTSTART;VALUE=DATE:20250502
DTEND;VALUE=DATE:20250503
DTSTAMP:20260422T122431
CREATED:20250427T085951Z
LAST-MODIFIED:20250427T085951Z
UID:4452-1746144000-1746230399@rshohenstein.de
SUMMARY:beweglicher Feiertag
DESCRIPTION:Heute findet kein Unterricht statt.
URL:https://rshohenstein.de/event/beweglicher-feiertag-4/
END:VEVENT
BEGIN:VEVENT
DTSTART;VALUE=DATE:20250428
DTEND;VALUE=DATE:20250517
DTSTAMP:20260422T122431
CREATED:20241207T132834Z
LAST-MODIFIED:20241207T132834Z
UID:3866-1745798400-1747439999@rshohenstein.de
SUMMARY:Schülerbetriebspraktikum Klasse 9
DESCRIPTION:Weitere Informationen zum Schülerbetriebspraktikum finden Sie hier.
URL:https://rshohenstein.de/event/schuelerbetriebspraktikum-klasse-9/
END:VEVENT
END:VCALENDAR